BEGIN:VCALENDAR
VERSION:2.0
PRODID:-//ChamberMaster//Event Calendar 2.0//EN
METHOD:PUBLISH
X-PUBLISHED-TTL:P3D
REFRESH-INTERVAL:P3D
CALSCALE:GREGORIAN
BEGIN:VEVENT
DTSTART:20260810T160000Z
DTEND:20260810T230000Z
X-MICROSOFT-CDO-ALLDAYEVENT:FALSE
SUMMARY:2026 Golf For Kids' Sake hosted by MDHBA & BBBS
DESCRIPTION:We're Hitting the Greens!  \n\nMonday\, August 10th at South Side Country Club!  \n\nWe've partnered with Big Brothers Big Sisters to bring you a wonderful event you won't want to miss!\n\nGolfing includes green fees\, cart\, lunch\, dinner & MORE!!\n\nLunch and check in begin at 11:00 am with a shot gun start at 12:00 pm. \n\nDinner (to go if needed) will also be provided.\n\nCourse activities and prizes for winning teams!\n\n\n\nSponsorships are also available. Interested? Check out the Sponsorship Levels flyer and Get ahold of us for opportunities! \n\nDonations are being accepted for silent auction!\n\n\n\nChecks can be made payable to: \n\nBig Brothers Big Sisters of Central Illinois (BBBS)\n\n\n\nPlease send all Payments\, Registrations\, and Sponsorships to \n\nMetro Decatur Home Builders Association \n\nP.O. Box 1166\n\nDecatur\, IL 62525\n\nMetroDecaturHBA@gmail.com
X-ALT-DESC;FMTTYPE=text/html:<br />\n<br />\n<span style="font-size:18px\;"><span style="color:#008000\;"><em><span style="font-family:tahoma\;"><strong>&#9971\; We&#39\;re Hitting the Greens! &#9971\;<br />\nMonday\, August 10th at South Side Country Club!&nbsp\;&nbsp\;<br />\nWe&#39\;ve partnered with Big Brothers Big Sisters to bring you a wonderful event you won&#39\;t want to miss!<br />\nGolfing includes green fees\, cart\, lunch\, dinner &amp\; MORE!!</strong><br />\nLunch and check in begin at 11:00 am with a shot gun start at 12:00 pm.&nbsp\;<br />\nDinner (to go if needed) will also be provided.<br />\nCourse activities and prizes for winning teams!<br />\n<br />\nSponsorships are also available. Interested? Check out the Sponsorship Levels flyer and Get ahold of us for opportunities!&nbsp\;<br />\nDonations are being accepted for silent auction!</span></em></span></span><br />\n<br />\n<em style="vertical-align: baseline\; background: 0px 0px\; border: 0px\; outline: 0px\; margin: 0px\; padding: 0px\; box-sizing: border-box\; font-family: Arial\, Helvetica\, sans-serif\; text-align: center\; color: rgb(0\, 128\, 0)\; font-size: 18px\;"><span style="vertical-align: baseline\; background: 0px 0px\; border: 0px\; outline: 0px\; margin: 0px\; padding: 0px\; box-sizing: border-box\; font-family: tahoma\;">Checks can be made payable to:&nbsp\;<br style="box-sizing: border-box\;" />\nBig Brothers Big Sisters of Central Illinois (BBBS)<br style="box-sizing: border-box\;" />\n<br style="box-sizing: border-box\;" />\nPlease send all Payments\, Registrations\, and Sponsorships to&nbsp\;<br style="box-sizing: border-box\;" />\nMetro Decatur Home Builders Association&nbsp\;<br style="box-sizing: border-box\;" />\nP.O. Box 1166<br style="box-sizing: border-box\;" />\nDecatur\, IL 62525<br style="box-sizing: border-box\;" />\nMetroDecaturHBA@gmail.com</span></em><br />\n&nbsp\;
LOCATION:South Side County Club 1650 Cottage Dr. Decatur\, IL 62521
UID:e.9535.1051
SEQUENCE:3
DTSTAMP:20260422T223409Z
URL:http://metrodecaturhomebuildersmn.memberzone.com/events/details/2026-golf-for-kids-sake-hosted-by-mdhba-bbbs-1051
END:VEVENT

END:VCALENDAR
